BEGIN:VCALENDAR
VERSION:2.0
PRODID:-//JFS Atlantic - ECPv6.15.9//NONSGML v1.0//EN
CALSCALE:GREGORIAN
METHOD:PUBLISH
X-ORIGINAL-URL:https://www.jfsatlantic.org
X-WR-CALDESC:Events for JFS Atlantic
REFRESH-INTERVAL;VALUE=DURATION:PT1H
X-Robots-Tag:noindex
X-PUBLISHED-TTL:PT1H
BEGIN:VTIMEZONE
TZID:America/New_York
BEGIN:DAYLIGHT
TZOFFSETFROM:-0500
TZOFFSETTO:-0400
TZNAME:EDT
DTSTART:20250309T070000
END:DAYLIGHT
BEGIN:STANDARD
TZOFFSETFROM:-0400
TZOFFSETTO:-0500
TZNAME:EST
DTSTART:20251102T060000
END:STANDARD
BEGIN:DAYLIGHT
TZOFFSETFROM:-0500
TZOFFSETTO:-0400
TZNAME:EDT
DTSTART:20260308T070000
END:DAYLIGHT
BEGIN:STANDARD
TZOFFSETFROM:-0400
TZOFFSETTO:-0500
TZNAME:EST
DTSTART:20261101T060000
END:STANDARD
BEGIN:DAYLIGHT
TZOFFSETFROM:-0500
TZOFFSETTO:-0400
TZNAME:EDT
DTSTART:20270314T070000
END:DAYLIGHT
BEGIN:STANDARD
TZOFFSETFROM:-0400
TZOFFSETTO:-0500
TZNAME:EST
DTSTART:20271107T060000
END:STANDARD
END:VTIMEZONE
BEGIN:VEVENT
DTSTART;TZID=America/New_York:20260414T090000
DTEND;TZID=America/New_York:20260414T110000
DTSTAMP:20260420T074535
CREATED:20260212T153251Z
LAST-MODIFIED:20260218T170742Z
UID:10000581-1776157200-1776164400@www.jfsatlantic.org
SUMMARY:VOLUNTEER OPPORTUNITY: Food Pantry Delivery
DESCRIPTION:Help bring our large food delivery inside the pantry\, organize and stock the shelves. Heavy lifting 9-11 am. Sneakers required. \nEmail volunteer@jfsatlantic.org to participate.
URL:https://www.jfsatlantic.org/events/volunteer-opportunity-food-pantry-delivery/2026-04-14/
CATEGORIES:Volunteer
ATTACH;FMTTYPE=image/jpeg:https://www.jfsatlantic.org/wp-content/uploads/2025/10/IMG_3197-scaled.jpg
END:VEVENT
END:VCALENDAR