BEGIN:VCALENDAR
VERSION:2.0
PRODID:-//JFS Atlantic - ECPv6.15.9//NONSGML v1.0//EN
CALSCALE:GREGORIAN
METHOD:PUBLISH
X-ORIGINAL-URL:https://www.jfsatlantic.org
X-WR-CALDESC:Events for JFS Atlantic
REFRESH-INTERVAL;VALUE=DURATION:PT1H
X-Robots-Tag:noindex
X-PUBLISHED-TTL:PT1H
BEGIN:VTIMEZONE
TZID:America/New_York
BEGIN:DAYLIGHT
TZOFFSETFROM:-0500
TZOFFSETTO:-0400
TZNAME:EDT
DTSTART:20250309T070000
END:DAYLIGHT
BEGIN:STANDARD
TZOFFSETFROM:-0400
TZOFFSETTO:-0500
TZNAME:EST
DTSTART:20251102T060000
END:STANDARD
BEGIN:DAYLIGHT
TZOFFSETFROM:-0500
TZOFFSETTO:-0400
TZNAME:EDT
DTSTART:20260308T070000
END:DAYLIGHT
BEGIN:STANDARD
TZOFFSETFROM:-0400
TZOFFSETTO:-0500
TZNAME:EST
DTSTART:20261101T060000
END:STANDARD
BEGIN:DAYLIGHT
TZOFFSETFROM:-0500
TZOFFSETTO:-0400
TZNAME:EDT
DTSTART:20270314T070000
END:DAYLIGHT
BEGIN:STANDARD
TZOFFSETFROM:-0400
TZOFFSETTO:-0500
TZNAME:EST
DTSTART:20271107T060000
END:STANDARD
END:VTIMEZONE
BEGIN:VEVENT
DTSTART;TZID=America/New_York:20260414T103000
DTEND;TZID=America/New_York:20260414T120000
DTSTAMP:20260421T214845
CREATED:20260326T143903Z
LAST-MODIFIED:20260326T143903Z
UID:10000677-1776162600-1776168000@www.jfsatlantic.org
SUMMARY:VILLAGE SOCIAL: Memoir Workshop
DESCRIPTION:Experience the thrill of capturing life’s adventures\, history\, and ancestry with the Memoir Workshop led by award-winning author and Drexel University Director of Certificate Program in Writing and Publishing\, Harriet Levin Millan. Learn about publishing your work. A laptop or pen and paper is needed for the workshop. This program is via Zoom and a link will be emailed. RSVP by April 10.
URL:https://www.jfsatlantic.org/events/village-social-memoir-workshop-2/
LOCATION:Zoom\, ONLINE ONLY
CATEGORIES:Village Program
END:VEVENT
BEGIN:VEVENT
DTSTART;TZID=America/New_York:20260415T190000
DTEND;TZID=America/New_York:20260415T200000
DTSTAMP:20260421T214845
CREATED:20260326T144336Z
LAST-MODIFIED:20260326T144336Z
UID:10000678-1776279600-1776283200@www.jfsatlantic.org
SUMMARY:VILLAGE SOCIAL: The End of Ambition: America's Past\, Present\, & Future in the Middle East
DESCRIPTION:Join us for a dessert reception with Author Steven Cook\, Eni Enrico Mattei Senior Fellow for Middle East and Africa studies at the Foreign Relations Council\, to discuss his book\, The End of Ambition. As one of the country’s leading experts on Middle East politics and U.S. foreign policy\, Cook will discuss the defining foreign policy debates of our time. After decades of war\, upheaval\, and frustration in the Middle East\, some argue the U.S. should step back and Cook challenges that assumption. Drawing on over 75 years of history\, he argues while America made mistakes\, it has largely succeeded in protecting interests in the region. In this timely and wide-ranging conversation\, Cook will explore what went wrong\, lessons learned\, and what a more disciplined and realistic American strategy in the Middle East should look like today. Attend in-person at Beth Israel\, 2501 Shore Road\, Northfield. RSVP by April 10.
URL:https://www.jfsatlantic.org/events/village-social-the-end-of-ambition-americas-past-present-future-in-the-middle-east/
LOCATION:Beth Israel\, 2501 Shore Road\, Northfield\, NJ\, 08225\, United States
CATEGORIES:Village Program
END:VEVENT
BEGIN:VEVENT
DTSTART;TZID=America/New_York:20260416T103000
DTEND;TZID=America/New_York:20260416T120000
DTSTAMP:20260421T214845
CREATED:20260326T144708Z
LAST-MODIFIED:20260326T144708Z
UID:10000679-1776335400-1776340800@www.jfsatlantic.org
SUMMARY:VILLAGE SOCIAL: Brunch & Learn: The Jews of Sarajevo\, Life in a Post Srebrenica World
DESCRIPTION:Join us as we explore how Jewish communities in the region navigate memory\, identity\, and resilience after the traumas of the 1990s. We will examine the role of remembrance in shaping contemporary Jewish life alongside broader Balkan societies still grappling with the legacy of war and genocide. Attend in-person at the Katz JCC Boardroom\, 501 North Jerome Avenue\, Margate. A $5 donation is appreciated. RSVP by April 13.
URL:https://www.jfsatlantic.org/events/village-social-brunch-learn-the-jews-of-sarajevo-life-in-a-post-srebrenica-world/
LOCATION:Katz JCC Boardroom\, 501 North Jerome Avenue\, Margate\, NJ\, 08402\, United States
CATEGORIES:Village Program
END:VEVENT
BEGIN:VEVENT
DTSTART;TZID=America/New_York:20260417T103000
DTEND;TZID=America/New_York:20260417T120000
DTSTAMP:20260421T214845
CREATED:20260326T144958Z
LAST-MODIFIED:20260326T144958Z
UID:10000680-1776421800-1776427200@www.jfsatlantic.org
SUMMARY:VILLAGE SOCIAL: Shabbat & Schmooze
DESCRIPTION:Come for a schmear\, stay for the company! Spend the morning enjoying delicious food and conversation with neighbors and friends. Attend in-person at the Katz JCC Boardroom\, 501 North Jerome Avenue\, Margate. RSVP by April 15.
URL:https://www.jfsatlantic.org/events/village-social-shabbat-schmooze/
LOCATION:Katz JCC Boardroom\, 501 North Jerome Avenue\, Margate\, NJ\, 08402\, United States
CATEGORIES:Village Program
END:VEVENT
BEGIN:VEVENT
DTSTART;TZID=America/New_York:20260421T190000
DTEND;TZID=America/New_York:20260421T200000
DTSTAMP:20260421T214845
CREATED:20260326T145545Z
LAST-MODIFIED:20260326T145545Z
UID:10000681-1776798000-1776801600@www.jfsatlantic.org
SUMMARY:VILLAGE SOCIAL: Yom Ha'atzmaut Israel Independence Day
DESCRIPTION:Join us for Israel Independence Day with an evening dessert reception with Author Josh Witkoff to discuss his book\, Israel: Contested Land\, Uncontested Truth. At the reception\, Witkoff will explore the historical\, moral\, and legal foundations of Israel’s legitimacy while examining the rise of misinformation\, antisemitism\, and anti-Zionist narratives in today’s world. Hear first-hand about his research\, personal reflections\, and insights and take part in a discussion about truth\, history\, and challenges facing the Jewish community. Attend the evening dessert reception on Tuesday\, April 21 at Shirat Hayam\, 700 North Swarthmore Avenue\, Ventnor\, and continue the conversation at brunch on Wednesday\, April 22 at the Katz JCC\, 501 North Jerome Avenue\, Margate. RSVP by April 14.
URL:https://www.jfsatlantic.org/events/village-social-yom-haatzmaut-israel-independence-day/
LOCATION:Shirat Hayam\, 700 N. Swarthmore Avenue\, Ventnor
CATEGORIES:Village Program
END:VEVENT
BEGIN:VEVENT
DTSTART;TZID=America/New_York:20260422T103000
DTEND;TZID=America/New_York:20260422T120000
DTSTAMP:20260421T214845
CREATED:20260326T145739Z
LAST-MODIFIED:20260326T145739Z
UID:10000682-1776853800-1776859200@www.jfsatlantic.org
SUMMARY:VILLAGE SOCIAL: Yom Ha'atzmaut Israel Independence Day
DESCRIPTION:Join us for Israel Independence Day with an evening dessert reception with Author Josh Witkoff to discuss his book\, Israel: Contested Land\, Uncontested Truth. At the reception\, Witkoff will explore the historical\, moral\, and legal foundations of Israel’s legitimacy while examining the rise of misinformation\, antisemitism\, and anti-Zionist narratives in today’s world. Hear first-hand about his research\, personal reflections\, and insights and take part in a discussion about truth\, history\, and challenges facing the Jewish community. Attend the evening dessert reception on Tuesday\, April 21 at Shirat Hayam\, 700 North Swarthmore Avenue\, Ventnor\, and continue the conversation at brunch on Wednesday\, April 22 at the Katz JCC\, 501 North Jerome Avenue\, Margate. RSVP by April 14.
URL:https://www.jfsatlantic.org/events/village-social-yom-haatzmaut-israel-independence-day-2/
LOCATION:JCC\, 501 North Jerome Avenue\, Margate\, NJ
CATEGORIES:Village Program
END:VEVENT
BEGIN:VEVENT
DTSTART;TZID=America/New_York:20260423T103000
DTEND;TZID=America/New_York:20260423T120000
DTSTAMP:20260421T214845
CREATED:20260326T150042Z
LAST-MODIFIED:20260326T150042Z
UID:10000683-1776940200-1776945600@www.jfsatlantic.org
SUMMARY:VILLAGE SOCIAL: Coffee Klatch
DESCRIPTION:Join a fast-paced discussion on neighborhood happenings\, technology\, social topics\, world events\, the arts\, and more. Moderated by Village Community Specialist Tina Serota and Board of Jewish Education Executive Director Josh Cutler. Attend in-person at the Katz JCC Boardroom\, 501 North Jerome Avenue\, Margate. RSVP by April 21.
URL:https://www.jfsatlantic.org/events/village-social-coffee-klatch-4/
LOCATION:Katz JCC Boardroom\, 501 North Jerome Avenue\, Margate\, NJ\, 08402\, United States
CATEGORIES:Village Program
END:VEVENT
BEGIN:VEVENT
DTSTART;TZID=America/New_York:20260505T150000
DTEND;TZID=America/New_York:20260505T160000
DTSTAMP:20260421T214845
CREATED:20260420T132324Z
LAST-MODIFIED:20260421T180912Z
UID:10000684-1777993200-1777996800@www.jfsatlantic.org
SUMMARY:VILLAGE SOCIAL: Thoughts From the Bookshelf
DESCRIPTION:Join Village Community Specialist Tina Serota for a book club gathering to discuss the New York Times bestseller\, Theo of Golden\, by Allen Levi. The story follows Theo\, a stranger who arrives in the small Southern city of Golden\, and keeps to himself why he is there. When he visits the local coffeehouse\, where pencil portraits of the townspeople hang on the walls\, he begins purchasing them to give to each person depicted. In exchange\, he only asks for their story. So\, portrait by portrait\, person by person\, secrets are revealed\, regrets are shared\, and ordinary lives are profoundly altered. \nAttend in the Margate Library Meeting Room\, 8100 Atlantic Avenue\, Margate. RSVP by May 1.
URL:https://www.jfsatlantic.org/events/village-social-thoughts-from-the-bookshelf-3/
LOCATION:Margate Library Meeting Room\, 8100 Atlantic Avenue\, Margate\, New Jersey
CATEGORIES:Village Program
END:VEVENT
BEGIN:VEVENT
DTSTART;TZID=America/New_York:20260506T190000
DTEND;TZID=America/New_York:20260506T203000
DTSTAMP:20260421T214845
CREATED:20260420T133157Z
LAST-MODIFIED:20260421T180946Z
UID:10000685-1778094000-1778099400@www.jfsatlantic.org
SUMMARY:VILLAGE SOCIAL: The Seventy Shuls
DESCRIPTION:Join us for the official launch of a remarkable new book celebrating the local Jewish community\, The Seventy Shuls – Synagogue Life & Yiddishkeit from the Pine Barrens to the Boardwalk\, by Josh Cutler. Discover the unearthed stories that shaped our South Jersey community and explore the rich heritage more than 150 years in the making. Enjoy a gourmet dessert reception and Israeli wine sampling followed by a Q&A facilitated by the book’s editor\, David Jastrow. \nAttend in the Katz JCC\, 501 North Jerome Avenue\, Margate. RSVP by May 4.
URL:https://www.jfsatlantic.org/events/village-social-the-seventy-shuls/
LOCATION:JCC\, 501 North Jerome Avenue\, Margate\, NJ
CATEGORIES:Village Program
END:VEVENT
BEGIN:VEVENT
DTSTART;TZID=America/New_York:20260507T190000
DTEND;TZID=America/New_York:20260507T203000
DTSTAMP:20260421T214845
CREATED:20260420T133616Z
LAST-MODIFIED:20260421T181012Z
UID:10000686-1778180400-1778185800@www.jfsatlantic.org
SUMMARY:VILLAGE SOCIAL: Raising Resilience
DESCRIPTION:Uncertainty is part of life\, and Jewish parents and grandparents face an added layer amid rising antisemitism. Whether from global events\, safety threats\, or daily stressors\, families constantly encounter challenges to children’s well-being. They can soften this uncertainty by helping children manage adversity and build resilience. Dr. Tovah Klein’s expertise is described as a lifeline for families facing everyday stresses and major crises alike\, from sibling conflict and divorce to loss\, academic struggles\, and growing up Jewish today. She will outline five key resources children develop through strong family relationships\, enabling them to adapt and thrive rather than falter under pressure. She will also share how to build confident\, caring\, and motivated children by strengthening connection and equipping them to meet life’s hurdles with resilience. \nAttend in the Katz JCC\, 501 North Jerome Avenue\, Margate. RSVP by May 5.
URL:https://www.jfsatlantic.org/events/village-social-raising-resilience/
LOCATION:JCC\, 501 North Jerome Avenue\, Margate\, NJ
CATEGORIES:Village Program
END:VEVENT
BEGIN:VEVENT
DTSTART;TZID=America/New_York:20260508T081500
DTEND;TZID=America/New_York:20260508T140000
DTSTAMP:20260421T214845
CREATED:20260420T134006Z
LAST-MODIFIED:20260421T181035Z
UID:10000687-1778228100-1778248800@www.jfsatlantic.org
SUMMARY:VILLAGE SOCIAL: SCOSA Festival
DESCRIPTION:Join Village Community Specialist Tina Serota at the Stockton Center on Successful Aging (SCOSA) Festival where you’ll enjoy workshops\, lectures\, performances\, displays\, exhibits\, lunch\, and more. \nFree to attend at Stockton University Campus Center\, 101 Vera King Ferris Drive\, Galloway.
URL:https://www.jfsatlantic.org/events/village-social-scosa-festival/
LOCATION:Stockton University Campus Center\, 101 Vera King Ferris Dr\, Galloway\, NJ\, 08205\, United States
CATEGORIES:Village Program
END:VEVENT
BEGIN:VEVENT
DTSTART;TZID=America/New_York:20260511T130000
DTEND;TZID=America/New_York:20260511T140000
DTSTAMP:20260421T214845
CREATED:20260420T134146Z
LAST-MODIFIED:20260421T181059Z
UID:10000688-1778504400-1778508000@www.jfsatlantic.org
SUMMARY:VILLAGE SOCIAL: Musical Connections
DESCRIPTION:Feel the stress of the day peel away as we share familiar tunes from various genres (Broadway\, Classical\, Contemporary\, Jazz) and instruments with friends and neighbors. Whether you are a caregiver\, cared for\, or community member\, we look forward to welcoming you. \nAttend in the Katz JCC Boardroom\, 501 North Jerome Avenue\, Margate. RSVP by May 8.
URL:https://www.jfsatlantic.org/events/village-social-musical-connections-4/
LOCATION:Katz JCC Boardroom\, 501 North Jerome Avenue\, Margate\, NJ\, 08402\, United States
CATEGORIES:Village Program
END:VEVENT
BEGIN:VEVENT
DTSTART;TZID=America/New_York:20260514T103000
DTEND;TZID=America/New_York:20260514T120000
DTSTAMP:20260421T214845
CREATED:20260420T134335Z
LAST-MODIFIED:20260421T181121Z
UID:10000689-1778754600-1778760000@www.jfsatlantic.org
SUMMARY:VILLAGE SOCIAL: Throwback Thursday
DESCRIPTION:From Sam Azeez to Sam Greenberg\, celebrate Jewish individuals who shaped South Jersey’s civic\, cultural\, and communal life through stories and photographs. \nAttend in the Katz JCC\, 501 North Jerome Avenue\, Margate. RSVP by May 12.
URL:https://www.jfsatlantic.org/events/village-social-throwback-thursday/
LOCATION:JCC\, 501 North Jerome Avenue\, Margate\, NJ
CATEGORIES:Village Program
END:VEVENT
BEGIN:VEVENT
DTSTART;TZID=America/New_York:20260515T103000
DTEND;TZID=America/New_York:20260515T120000
DTSTAMP:20260421T214845
CREATED:20260420T134920Z
LAST-MODIFIED:20260421T181158Z
UID:10000690-1778841000-1778846400@www.jfsatlantic.org
SUMMARY:VILLAGE SOCIAL: Memoir Workshop
DESCRIPTION:Experience the thrill of capturing life’s adventures\, history\, and ancestry with the Memoir Workshop led by award-winning author and Drexel University Director of Certificate Program in Writing and Publishing\, Harriet Levin Millan. Learn about publishing your work. \nA laptop or pen and paper is needed for the workshop. This program is via Zoom and a link will be emailed. RSVP by May 13.
URL:https://www.jfsatlantic.org/events/village-social-memoir-workshop-3/
LOCATION:Zoom\, ONLINE ONLY
CATEGORIES:Village Program
END:VEVENT
BEGIN:VEVENT
DTSTART;TZID=America/New_York:20260520T120000
DTEND;TZID=America/New_York:20260520T133000
DTSTAMP:20260421T214845
CREATED:20260420T135115Z
LAST-MODIFIED:20260421T181231Z
UID:10000691-1779278400-1779283800@www.jfsatlantic.org
SUMMARY:VILLAGE SOCIAL: Lunch Around Town
DESCRIPTION:Enjoy a leisurely lunch while supporting a local restaurant. This month\, we will dine at Hannah G’s\, 7310 Ventnor Avenue\, Ventnor. Come prepared for good food and conversation. \nOrder off the menu and pay individually. Cash only. RSVP by May 8.
URL:https://www.jfsatlantic.org/events/village-social-lunch-around-town-5/
LOCATION:Hannah G’s\, 7310 Ventnor Ave\, Ventnor
CATEGORIES:Village Program
END:VEVENT
BEGIN:VEVENT
DTSTART;TZID=America/New_York:20260521T103000
DTEND;TZID=America/New_York:20260521T120000
DTSTAMP:20260421T214845
CREATED:20260420T135542Z
LAST-MODIFIED:20260421T181252Z
UID:10000692-1779359400-1779364800@www.jfsatlantic.org
SUMMARY:VILLAGE SOCIAL: Stained Glass Art & Artistry
DESCRIPTION:Enjoy a photographic tour of stained glass windows and art from local synagogues. Learn how artistic expression has been used to preserve Jewish memory and communal pride. \nAttend at Temple Beth Shalom\, 4419 West Brigantine Avenue\, Brigantine. RSVP by May 18.
URL:https://www.jfsatlantic.org/events/village-social-stained-glass-art-artistry/
LOCATION:Temple Beth Shalom\, 4419 West Brigantine Ave\, Brigantine\, NJ\, 08203\, United States
CATEGORIES:Village Program
END:VEVENT
BEGIN:VEVENT
DTSTART;TZID=America/New_York:20260527T140000
DTEND;TZID=America/New_York:20260527T150000
DTSTAMP:20260421T214845
CREATED:20260420T140653Z
LAST-MODIFIED:20260421T181314Z
UID:10000693-1779890400-1779894000@www.jfsatlantic.org
SUMMARY:VILLAGE SOCIAL: The Lost Shuls of Atlantic City
DESCRIPTION:From immigrant neighborhoods to resort era success\, this program explores how seaside communities evolved alongside Boardwalk tourism. \nAttend at the Atlantic City Library\, 1 North Tennessee Avenue\, Atlantic City. RSVP by May 21.
URL:https://www.jfsatlantic.org/events/village-social-the-lost-shuls-of-atlantic-city/
LOCATION:Atlantic City Library\, 1 N Tennessee Ave\, Atlantic City\, NJ\, 08401\, United States
CATEGORIES:Village Program
END:VEVENT
BEGIN:VEVENT
DTSTART;TZID=America/New_York:20260528T103000
DTEND;TZID=America/New_York:20260528T120000
DTSTAMP:20260421T214845
CREATED:20260420T141324Z
LAST-MODIFIED:20260421T181336Z
UID:10000694-1779964200-1779969600@www.jfsatlantic.org
SUMMARY:VILLAGE SOCIAL: Coffee Klatch
DESCRIPTION:Join a fast-paced discussion on neighborhood happenings\, technology\, social topics\, world events\, the arts\, and more. Moderated by Village Community Specialist Tina Serota and Board of Jewish Education Executive Director Josh Cutler. \nAttend in the Katz JCC Boardroom\, 501 North Jerome Avenue\, Margate. RSVP by May 26.
URL:https://www.jfsatlantic.org/events/village-social-coffee-klatch-5/
LOCATION:Katz JCC Boardroom\, 501 North Jerome Avenue\, Margate\, NJ\, 08402\, United States
CATEGORIES:Village Program
END:VEVENT
END:VCALENDAR