BEGIN:VCALENDAR
VERSION:2.0
PRODID:-//JFS Atlantic - ECPv6.15.9//NONSGML v1.0//EN
CALSCALE:GREGORIAN
METHOD:PUBLISH
X-ORIGINAL-URL:https://www.jfsatlantic.org
X-WR-CALDESC:Events for JFS Atlantic
REFRESH-INTERVAL;VALUE=DURATION:PT1H
X-Robots-Tag:noindex
X-PUBLISHED-TTL:PT1H
BEGIN:VTIMEZONE
TZID:America/New_York
BEGIN:DAYLIGHT
TZOFFSETFROM:-0500
TZOFFSETTO:-0400
TZNAME:EDT
DTSTART:20240310T070000
END:DAYLIGHT
BEGIN:STANDARD
TZOFFSETFROM:-0400
TZOFFSETTO:-0500
TZNAME:EST
DTSTART:20241103T060000
END:STANDARD
BEGIN:DAYLIGHT
TZOFFSETFROM:-0500
TZOFFSETTO:-0400
TZNAME:EDT
DTSTART:20250309T070000
END:DAYLIGHT
BEGIN:STANDARD
TZOFFSETFROM:-0400
TZOFFSETTO:-0500
TZNAME:EST
DTSTART:20251102T060000
END:STANDARD
BEGIN:DAYLIGHT
TZOFFSETFROM:-0500
TZOFFSETTO:-0400
TZNAME:EDT
DTSTART:20260308T070000
END:DAYLIGHT
BEGIN:STANDARD
TZOFFSETFROM:-0400
TZOFFSETTO:-0500
TZNAME:EST
DTSTART:20261101T060000
END:STANDARD
END:VTIMEZONE
BEGIN:VEVENT
DTSTART;TZID=America/New_York:20250120T100000
DTEND;TZID=America/New_York:20250120T120000
DTSTAMP:20260424T231410
CREATED:20250102T191006Z
LAST-MODIFIED:20250102T191038Z
UID:10000122-1737367200-1737374400@www.jfsatlantic.org
SUMMARY:MLK\, Jr. Day of Service
DESCRIPTION:Monday\, January 20th\, 10 AM – 12 PM\n607 N Jerome Avenue\, Margate \nThe MLK\, Jr.  Day of Service brings people of all ages together to participate in activities that will benefit members of our surrounding communities. Spend the morning giving back with your children while they’re out of school.
URL:https://www.jfsatlantic.org/events/mlk-jr-day-of-service/
CATEGORIES:Upcoming Event
ATTACH;FMTTYPE=image/jpeg:https://www.jfsatlantic.org/wp-content/uploads/2025/01/MLK-Day-Volunteer-FLyer20252.jpg
END:VEVENT
END:VCALENDAR