BEGIN:VCALENDAR
VERSION:2.0
PRODID:-//JFS Atlantic - ECPv6.15.9//NONSGML v1.0//EN
CALSCALE:GREGORIAN
METHOD:PUBLISH
X-ORIGINAL-URL:https://www.jfsatlantic.org
X-WR-CALDESC:Events for JFS Atlantic
REFRESH-INTERVAL;VALUE=DURATION:PT1H
X-Robots-Tag:noindex
X-PUBLISHED-TTL:PT1H
BEGIN:VTIMEZONE
TZID:America/New_York
BEGIN:DAYLIGHT
TZOFFSETFROM:-0500
TZOFFSETTO:-0400
TZNAME:EDT
DTSTART:20260308T070000
END:DAYLIGHT
BEGIN:STANDARD
TZOFFSETFROM:-0400
TZOFFSETTO:-0500
TZNAME:EST
DTSTART:20261101T060000
END:STANDARD
BEGIN:DAYLIGHT
TZOFFSETFROM:-0500
TZOFFSETTO:-0400
TZNAME:EDT
DTSTART:20270314T070000
END:DAYLIGHT
BEGIN:STANDARD
TZOFFSETFROM:-0400
TZOFFSETTO:-0500
TZNAME:EST
DTSTART:20271107T060000
END:STANDARD
BEGIN:DAYLIGHT
TZOFFSETFROM:-0500
TZOFFSETTO:-0400
TZNAME:EDT
DTSTART:20280312T070000
END:DAYLIGHT
BEGIN:STANDARD
TZOFFSETFROM:-0400
TZOFFSETTO:-0500
TZNAME:EST
DTSTART:20281105T060000
END:STANDARD
BEGIN:DAYLIGHT
TZOFFSETFROM:-0500
TZOFFSETTO:-0400
TZNAME:EDT
DTSTART:20290311T070000
END:DAYLIGHT
BEGIN:STANDARD
TZOFFSETFROM:-0400
TZOFFSETTO:-0500
TZNAME:EST
DTSTART:20291104T060000
END:STANDARD
END:VTIMEZONE
BEGIN:VEVENT
DTSTART;TZID=America/New_York:20270818T130000
DTEND;TZID=America/New_York:20270818T140000
DTSTAMP:20260419T042704
CREATED:20250707T161511Z
LAST-MODIFIED:20251030T154120Z
UID:10000234-1818594000-1818597600@www.jfsatlantic.org
SUMMARY:Food Distribution (Oceanside II Success Center)
DESCRIPTION:3rd Wednesday of Each Month (1 – 2pm)\nOceanside II Success Center\n3201 Atlantic Ave.\, Atlantic City\, NJ
URL:https://www.jfsatlantic.org/events/distribution-oceanside-ii-success-center/2027-08-18/
CATEGORIES:Community Program,Volunteer
END:VEVENT
BEGIN:VEVENT
DTSTART;TZID=America/New_York:20270826T110000
DTEND;TZID=America/New_York:20270826T123000
DTSTAMP:20260419T042704
CREATED:20250707T161742Z
LAST-MODIFIED:20251030T154039Z
UID:10000294-1819278000-1819283400@www.jfsatlantic.org
SUMMARY:Food Distribution (ACCC AC Campus *STUDENTS ONLY*)
DESCRIPTION:4th Thursday of Each Month (11am – 12:30pm)\nACCC AC Campus (STUDENTS ONLY)\n1535 Bacharach Blvd.\, Atlantic City\, NJ
URL:https://www.jfsatlantic.org/events/distribution-accc-ac-campus-students-only/2027-08-26/
CATEGORIES:Community Program,Volunteer
END:VEVENT
BEGIN:VEVENT
DTSTART;TZID=America/New_York:20270915T130000
DTEND;TZID=America/New_York:20270915T140000
DTSTAMP:20260419T042704
CREATED:20250707T161511Z
LAST-MODIFIED:20251030T154120Z
UID:10000235-1821013200-1821016800@www.jfsatlantic.org
SUMMARY:Food Distribution (Oceanside II Success Center)
DESCRIPTION:3rd Wednesday of Each Month (1 – 2pm)\nOceanside II Success Center\n3201 Atlantic Ave.\, Atlantic City\, NJ
URL:https://www.jfsatlantic.org/events/distribution-oceanside-ii-success-center/2027-09-15/
CATEGORIES:Community Program,Volunteer
END:VEVENT
BEGIN:VEVENT
DTSTART;TZID=America/New_York:20270923T110000
DTEND;TZID=America/New_York:20270923T123000
DTSTAMP:20260419T042704
CREATED:20250707T161742Z
LAST-MODIFIED:20251030T154039Z
UID:10000295-1821697200-1821702600@www.jfsatlantic.org
SUMMARY:Food Distribution (ACCC AC Campus *STUDENTS ONLY*)
DESCRIPTION:4th Thursday of Each Month (11am – 12:30pm)\nACCC AC Campus (STUDENTS ONLY)\n1535 Bacharach Blvd.\, Atlantic City\, NJ
URL:https://www.jfsatlantic.org/events/distribution-accc-ac-campus-students-only/2027-09-23/
CATEGORIES:Community Program,Volunteer
END:VEVENT
BEGIN:VEVENT
DTSTART;TZID=America/New_York:20271020T130000
DTEND;TZID=America/New_York:20271020T140000
DTSTAMP:20260419T042704
CREATED:20250707T161511Z
LAST-MODIFIED:20251030T154120Z
UID:10000236-1824037200-1824040800@www.jfsatlantic.org
SUMMARY:Food Distribution (Oceanside II Success Center)
DESCRIPTION:3rd Wednesday of Each Month (1 – 2pm)\nOceanside II Success Center\n3201 Atlantic Ave.\, Atlantic City\, NJ
URL:https://www.jfsatlantic.org/events/distribution-oceanside-ii-success-center/2027-10-20/
CATEGORIES:Community Program,Volunteer
END:VEVENT
BEGIN:VEVENT
DTSTART;TZID=America/New_York:20271028T110000
DTEND;TZID=America/New_York:20271028T123000
DTSTAMP:20260419T042704
CREATED:20250707T161742Z
LAST-MODIFIED:20251030T154039Z
UID:10000296-1824721200-1824726600@www.jfsatlantic.org
SUMMARY:Food Distribution (ACCC AC Campus *STUDENTS ONLY*)
DESCRIPTION:4th Thursday of Each Month (11am – 12:30pm)\nACCC AC Campus (STUDENTS ONLY)\n1535 Bacharach Blvd.\, Atlantic City\, NJ
URL:https://www.jfsatlantic.org/events/distribution-accc-ac-campus-students-only/2027-10-28/
CATEGORIES:Community Program,Volunteer
END:VEVENT
BEGIN:VEVENT
DTSTART;TZID=America/New_York:20271117T130000
DTEND;TZID=America/New_York:20271117T140000
DTSTAMP:20260419T042704
CREATED:20250707T161511Z
LAST-MODIFIED:20251030T154120Z
UID:10000237-1826456400-1826460000@www.jfsatlantic.org
SUMMARY:Food Distribution (Oceanside II Success Center)
DESCRIPTION:3rd Wednesday of Each Month (1 – 2pm)\nOceanside II Success Center\n3201 Atlantic Ave.\, Atlantic City\, NJ
URL:https://www.jfsatlantic.org/events/distribution-oceanside-ii-success-center/2027-11-17/
CATEGORIES:Community Program,Volunteer
END:VEVENT
BEGIN:VEVENT
DTSTART;TZID=America/New_York:20271125T110000
DTEND;TZID=America/New_York:20271125T123000
DTSTAMP:20260419T042704
CREATED:20250707T161742Z
LAST-MODIFIED:20251030T154039Z
UID:10000297-1827140400-1827145800@www.jfsatlantic.org
SUMMARY:Food Distribution (ACCC AC Campus *STUDENTS ONLY*)
DESCRIPTION:4th Thursday of Each Month (11am – 12:30pm)\nACCC AC Campus (STUDENTS ONLY)\n1535 Bacharach Blvd.\, Atlantic City\, NJ
URL:https://www.jfsatlantic.org/events/distribution-accc-ac-campus-students-only/2027-11-25/
CATEGORIES:Community Program,Volunteer
END:VEVENT
BEGIN:VEVENT
DTSTART;TZID=America/New_York:20271215T130000
DTEND;TZID=America/New_York:20271215T140000
DTSTAMP:20260419T042704
CREATED:20250707T161511Z
LAST-MODIFIED:20251030T154120Z
UID:10000238-1828875600-1828879200@www.jfsatlantic.org
SUMMARY:Food Distribution (Oceanside II Success Center)
DESCRIPTION:3rd Wednesday of Each Month (1 – 2pm)\nOceanside II Success Center\n3201 Atlantic Ave.\, Atlantic City\, NJ
URL:https://www.jfsatlantic.org/events/distribution-oceanside-ii-success-center/2027-12-15/
CATEGORIES:Community Program,Volunteer
END:VEVENT
BEGIN:VEVENT
DTSTART;TZID=America/New_York:20271223T110000
DTEND;TZID=America/New_York:20271223T123000
DTSTAMP:20260419T042704
CREATED:20250707T161742Z
LAST-MODIFIED:20251030T154039Z
UID:10000298-1829559600-1829565000@www.jfsatlantic.org
SUMMARY:Food Distribution (ACCC AC Campus *STUDENTS ONLY*)
DESCRIPTION:4th Thursday of Each Month (11am – 12:30pm)\nACCC AC Campus (STUDENTS ONLY)\n1535 Bacharach Blvd.\, Atlantic City\, NJ
URL:https://www.jfsatlantic.org/events/distribution-accc-ac-campus-students-only/2027-12-23/
CATEGORIES:Community Program,Volunteer
END:VEVENT
BEGIN:VEVENT
DTSTART;TZID=America/New_York:20280119T130000
DTEND;TZID=America/New_York:20280119T140000
DTSTAMP:20260419T042704
CREATED:20250707T161511Z
LAST-MODIFIED:20251030T154120Z
UID:10000239-1831899600-1831903200@www.jfsatlantic.org
SUMMARY:Food Distribution (Oceanside II Success Center)
DESCRIPTION:3rd Wednesday of Each Month (1 – 2pm)\nOceanside II Success Center\n3201 Atlantic Ave.\, Atlantic City\, NJ
URL:https://www.jfsatlantic.org/events/distribution-oceanside-ii-success-center/2028-01-19/
CATEGORIES:Community Program,Volunteer
END:VEVENT
BEGIN:VEVENT
DTSTART;TZID=America/New_York:20280127T110000
DTEND;TZID=America/New_York:20280127T123000
DTSTAMP:20260419T042704
CREATED:20250707T161742Z
LAST-MODIFIED:20251030T154039Z
UID:10000299-1832583600-1832589000@www.jfsatlantic.org
SUMMARY:Food Distribution (ACCC AC Campus *STUDENTS ONLY*)
DESCRIPTION:4th Thursday of Each Month (11am – 12:30pm)\nACCC AC Campus (STUDENTS ONLY)\n1535 Bacharach Blvd.\, Atlantic City\, NJ
URL:https://www.jfsatlantic.org/events/distribution-accc-ac-campus-students-only/2028-01-27/
CATEGORIES:Community Program,Volunteer
END:VEVENT
BEGIN:VEVENT
DTSTART;TZID=America/New_York:20280216T130000
DTEND;TZID=America/New_York:20280216T140000
DTSTAMP:20260419T042704
CREATED:20250707T161511Z
LAST-MODIFIED:20251030T154120Z
UID:10000240-1834318800-1834322400@www.jfsatlantic.org
SUMMARY:Food Distribution (Oceanside II Success Center)
DESCRIPTION:3rd Wednesday of Each Month (1 – 2pm)\nOceanside II Success Center\n3201 Atlantic Ave.\, Atlantic City\, NJ
URL:https://www.jfsatlantic.org/events/distribution-oceanside-ii-success-center/2028-02-16/
CATEGORIES:Community Program,Volunteer
END:VEVENT
BEGIN:VEVENT
DTSTART;TZID=America/New_York:20280224T110000
DTEND;TZID=America/New_York:20280224T123000
DTSTAMP:20260419T042704
CREATED:20250707T161742Z
LAST-MODIFIED:20251030T154039Z
UID:10000300-1835002800-1835008200@www.jfsatlantic.org
SUMMARY:Food Distribution (ACCC AC Campus *STUDENTS ONLY*)
DESCRIPTION:4th Thursday of Each Month (11am – 12:30pm)\nACCC AC Campus (STUDENTS ONLY)\n1535 Bacharach Blvd.\, Atlantic City\, NJ
URL:https://www.jfsatlantic.org/events/distribution-accc-ac-campus-students-only/2028-02-24/
CATEGORIES:Community Program,Volunteer
END:VEVENT
BEGIN:VEVENT
DTSTART;TZID=America/New_York:20280315T130000
DTEND;TZID=America/New_York:20280315T140000
DTSTAMP:20260419T042704
CREATED:20250707T161511Z
LAST-MODIFIED:20251030T154120Z
UID:10000241-1836738000-1836741600@www.jfsatlantic.org
SUMMARY:Food Distribution (Oceanside II Success Center)
DESCRIPTION:3rd Wednesday of Each Month (1 – 2pm)\nOceanside II Success Center\n3201 Atlantic Ave.\, Atlantic City\, NJ
URL:https://www.jfsatlantic.org/events/distribution-oceanside-ii-success-center/2028-03-15/
CATEGORIES:Community Program,Volunteer
END:VEVENT
BEGIN:VEVENT
DTSTART;TZID=America/New_York:20280323T110000
DTEND;TZID=America/New_York:20280323T123000
DTSTAMP:20260419T042704
CREATED:20250707T161742Z
LAST-MODIFIED:20251030T154039Z
UID:10000301-1837422000-1837427400@www.jfsatlantic.org
SUMMARY:Food Distribution (ACCC AC Campus *STUDENTS ONLY*)
DESCRIPTION:4th Thursday of Each Month (11am – 12:30pm)\nACCC AC Campus (STUDENTS ONLY)\n1535 Bacharach Blvd.\, Atlantic City\, NJ
URL:https://www.jfsatlantic.org/events/distribution-accc-ac-campus-students-only/2028-03-23/
CATEGORIES:Community Program,Volunteer
END:VEVENT
BEGIN:VEVENT
DTSTART;TZID=America/New_York:20280419T130000
DTEND;TZID=America/New_York:20280419T140000
DTSTAMP:20260419T042704
CREATED:20250707T161511Z
LAST-MODIFIED:20251030T154120Z
UID:10000242-1839762000-1839765600@www.jfsatlantic.org
SUMMARY:Food Distribution (Oceanside II Success Center)
DESCRIPTION:3rd Wednesday of Each Month (1 – 2pm)\nOceanside II Success Center\n3201 Atlantic Ave.\, Atlantic City\, NJ
URL:https://www.jfsatlantic.org/events/distribution-oceanside-ii-success-center/2028-04-19/
CATEGORIES:Community Program,Volunteer
END:VEVENT
BEGIN:VEVENT
DTSTART;TZID=America/New_York:20280427T110000
DTEND;TZID=America/New_York:20280427T123000
DTSTAMP:20260419T042704
CREATED:20250707T161742Z
LAST-MODIFIED:20251030T154039Z
UID:10000302-1840446000-1840451400@www.jfsatlantic.org
SUMMARY:Food Distribution (ACCC AC Campus *STUDENTS ONLY*)
DESCRIPTION:4th Thursday of Each Month (11am – 12:30pm)\nACCC AC Campus (STUDENTS ONLY)\n1535 Bacharach Blvd.\, Atlantic City\, NJ
URL:https://www.jfsatlantic.org/events/distribution-accc-ac-campus-students-only/2028-04-27/
CATEGORIES:Community Program,Volunteer
END:VEVENT
BEGIN:VEVENT
DTSTART;TZID=America/New_York:20280517T130000
DTEND;TZID=America/New_York:20280517T140000
DTSTAMP:20260419T042704
CREATED:20250707T161511Z
LAST-MODIFIED:20251030T154120Z
UID:10000243-1842181200-1842184800@www.jfsatlantic.org
SUMMARY:Food Distribution (Oceanside II Success Center)
DESCRIPTION:3rd Wednesday of Each Month (1 – 2pm)\nOceanside II Success Center\n3201 Atlantic Ave.\, Atlantic City\, NJ
URL:https://www.jfsatlantic.org/events/distribution-oceanside-ii-success-center/2028-05-17/
CATEGORIES:Community Program,Volunteer
END:VEVENT
BEGIN:VEVENT
DTSTART;TZID=America/New_York:20280525T110000
DTEND;TZID=America/New_York:20280525T123000
DTSTAMP:20260419T042704
CREATED:20250707T161742Z
LAST-MODIFIED:20251030T154039Z
UID:10000303-1842865200-1842870600@www.jfsatlantic.org
SUMMARY:Food Distribution (ACCC AC Campus *STUDENTS ONLY*)
DESCRIPTION:4th Thursday of Each Month (11am – 12:30pm)\nACCC AC Campus (STUDENTS ONLY)\n1535 Bacharach Blvd.\, Atlantic City\, NJ
URL:https://www.jfsatlantic.org/events/distribution-accc-ac-campus-students-only/2028-05-25/
CATEGORIES:Community Program,Volunteer
END:VEVENT
BEGIN:VEVENT
DTSTART;TZID=America/New_York:20280621T130000
DTEND;TZID=America/New_York:20280621T140000
DTSTAMP:20260419T042704
CREATED:20250707T161511Z
LAST-MODIFIED:20251030T154120Z
UID:10000244-1845205200-1845208800@www.jfsatlantic.org
SUMMARY:Food Distribution (Oceanside II Success Center)
DESCRIPTION:3rd Wednesday of Each Month (1 – 2pm)\nOceanside II Success Center\n3201 Atlantic Ave.\, Atlantic City\, NJ
URL:https://www.jfsatlantic.org/events/distribution-oceanside-ii-success-center/2028-06-21/
CATEGORIES:Community Program,Volunteer
END:VEVENT
BEGIN:VEVENT
DTSTART;TZID=America/New_York:20280622T110000
DTEND;TZID=America/New_York:20280622T123000
DTSTAMP:20260419T042704
CREATED:20250707T161742Z
LAST-MODIFIED:20251030T154039Z
UID:10000304-1845284400-1845289800@www.jfsatlantic.org
SUMMARY:Food Distribution (ACCC AC Campus *STUDENTS ONLY*)
DESCRIPTION:4th Thursday of Each Month (11am – 12:30pm)\nACCC AC Campus (STUDENTS ONLY)\n1535 Bacharach Blvd.\, Atlantic City\, NJ
URL:https://www.jfsatlantic.org/events/distribution-accc-ac-campus-students-only/2028-06-22/
CATEGORIES:Community Program,Volunteer
END:VEVENT
BEGIN:VEVENT
DTSTART;TZID=America/New_York:20280719T130000
DTEND;TZID=America/New_York:20280719T140000
DTSTAMP:20260419T042704
CREATED:20250707T161511Z
LAST-MODIFIED:20251030T154120Z
UID:10000245-1847624400-1847628000@www.jfsatlantic.org
SUMMARY:Food Distribution (Oceanside II Success Center)
DESCRIPTION:3rd Wednesday of Each Month (1 – 2pm)\nOceanside II Success Center\n3201 Atlantic Ave.\, Atlantic City\, NJ
URL:https://www.jfsatlantic.org/events/distribution-oceanside-ii-success-center/2028-07-19/
CATEGORIES:Community Program,Volunteer
END:VEVENT
BEGIN:VEVENT
DTSTART;TZID=America/New_York:20280727T110000
DTEND;TZID=America/New_York:20280727T123000
DTSTAMP:20260419T042704
CREATED:20250707T161742Z
LAST-MODIFIED:20251030T154039Z
UID:10000305-1848308400-1848313800@www.jfsatlantic.org
SUMMARY:Food Distribution (ACCC AC Campus *STUDENTS ONLY*)
DESCRIPTION:4th Thursday of Each Month (11am – 12:30pm)\nACCC AC Campus (STUDENTS ONLY)\n1535 Bacharach Blvd.\, Atlantic City\, NJ
URL:https://www.jfsatlantic.org/events/distribution-accc-ac-campus-students-only/2028-07-27/
CATEGORIES:Community Program,Volunteer
END:VEVENT
BEGIN:VEVENT
DTSTART;TZID=America/New_York:20280816T130000
DTEND;TZID=America/New_York:20280816T140000
DTSTAMP:20260419T042704
CREATED:20250707T161511Z
LAST-MODIFIED:20251030T154120Z
UID:10000246-1850043600-1850047200@www.jfsatlantic.org
SUMMARY:Food Distribution (Oceanside II Success Center)
DESCRIPTION:3rd Wednesday of Each Month (1 – 2pm)\nOceanside II Success Center\n3201 Atlantic Ave.\, Atlantic City\, NJ
URL:https://www.jfsatlantic.org/events/distribution-oceanside-ii-success-center/2028-08-16/
CATEGORIES:Community Program,Volunteer
END:VEVENT
BEGIN:VEVENT
DTSTART;TZID=America/New_York:20280824T110000
DTEND;TZID=America/New_York:20280824T123000
DTSTAMP:20260419T042704
CREATED:20250707T161742Z
LAST-MODIFIED:20251030T154039Z
UID:10000306-1850727600-1850733000@www.jfsatlantic.org
SUMMARY:Food Distribution (ACCC AC Campus *STUDENTS ONLY*)
DESCRIPTION:4th Thursday of Each Month (11am – 12:30pm)\nACCC AC Campus (STUDENTS ONLY)\n1535 Bacharach Blvd.\, Atlantic City\, NJ
URL:https://www.jfsatlantic.org/events/distribution-accc-ac-campus-students-only/2028-08-24/
CATEGORIES:Community Program,Volunteer
END:VEVENT
BEGIN:VEVENT
DTSTART;TZID=America/New_York:20280920T130000
DTEND;TZID=America/New_York:20280920T140000
DTSTAMP:20260419T042704
CREATED:20250707T161511Z
LAST-MODIFIED:20251030T154120Z
UID:10000247-1853067600-1853071200@www.jfsatlantic.org
SUMMARY:Food Distribution (Oceanside II Success Center)
DESCRIPTION:3rd Wednesday of Each Month (1 – 2pm)\nOceanside II Success Center\n3201 Atlantic Ave.\, Atlantic City\, NJ
URL:https://www.jfsatlantic.org/events/distribution-oceanside-ii-success-center/2028-09-20/
CATEGORIES:Community Program,Volunteer
END:VEVENT
BEGIN:VEVENT
DTSTART;TZID=America/New_York:20280928T110000
DTEND;TZID=America/New_York:20280928T123000
DTSTAMP:20260419T042704
CREATED:20250707T161742Z
LAST-MODIFIED:20251030T154039Z
UID:10000307-1853751600-1853757000@www.jfsatlantic.org
SUMMARY:Food Distribution (ACCC AC Campus *STUDENTS ONLY*)
DESCRIPTION:4th Thursday of Each Month (11am – 12:30pm)\nACCC AC Campus (STUDENTS ONLY)\n1535 Bacharach Blvd.\, Atlantic City\, NJ
URL:https://www.jfsatlantic.org/events/distribution-accc-ac-campus-students-only/2028-09-28/
CATEGORIES:Community Program,Volunteer
END:VEVENT
BEGIN:VEVENT
DTSTART;TZID=America/New_York:20281018T130000
DTEND;TZID=America/New_York:20281018T140000
DTSTAMP:20260419T042704
CREATED:20250707T161511Z
LAST-MODIFIED:20251030T154120Z
UID:10000248-1855486800-1855490400@www.jfsatlantic.org
SUMMARY:Food Distribution (Oceanside II Success Center)
DESCRIPTION:3rd Wednesday of Each Month (1 – 2pm)\nOceanside II Success Center\n3201 Atlantic Ave.\, Atlantic City\, NJ
URL:https://www.jfsatlantic.org/events/distribution-oceanside-ii-success-center/2028-10-18/
CATEGORIES:Community Program,Volunteer
END:VEVENT
BEGIN:VEVENT
DTSTART;TZID=America/New_York:20281026T110000
DTEND;TZID=America/New_York:20281026T123000
DTSTAMP:20260419T042704
CREATED:20250707T161742Z
LAST-MODIFIED:20251030T154039Z
UID:10000308-1856170800-1856176200@www.jfsatlantic.org
SUMMARY:Food Distribution (ACCC AC Campus *STUDENTS ONLY*)
DESCRIPTION:4th Thursday of Each Month (11am – 12:30pm)\nACCC AC Campus (STUDENTS ONLY)\n1535 Bacharach Blvd.\, Atlantic City\, NJ
URL:https://www.jfsatlantic.org/events/distribution-accc-ac-campus-students-only/2028-10-26/
CATEGORIES:Community Program,Volunteer
END:VEVENT
END:VCALENDAR