BEGIN:VCALENDAR
VERSION:2.0
PRODID:-//JFS Atlantic - ECPv6.15.9//NONSGML v1.0//EN
CALSCALE:GREGORIAN
METHOD:PUBLISH
X-ORIGINAL-URL:https://www.jfsatlantic.org
X-WR-CALDESC:Events for JFS Atlantic
REFRESH-INTERVAL;VALUE=DURATION:PT1H
X-Robots-Tag:noindex
X-PUBLISHED-TTL:PT1H
BEGIN:VTIMEZONE
TZID:America/New_York
BEGIN:DAYLIGHT
TZOFFSETFROM:-0500
TZOFFSETTO:-0400
TZNAME:EDT
DTSTART:20290311T070000
END:DAYLIGHT
BEGIN:STANDARD
TZOFFSETFROM:-0400
TZOFFSETTO:-0500
TZNAME:EST
DTSTART:20291104T060000
END:STANDARD
BEGIN:DAYLIGHT
TZOFFSETFROM:-0500
TZOFFSETTO:-0400
TZNAME:EDT
DTSTART:20300310T070000
END:DAYLIGHT
BEGIN:STANDARD
TZOFFSETFROM:-0400
TZOFFSETTO:-0500
TZNAME:EST
DTSTART:20301103T060000
END:STANDARD
BEGIN:DAYLIGHT
TZOFFSETFROM:-0500
TZOFFSETTO:-0400
TZNAME:EDT
DTSTART:20310309T070000
END:DAYLIGHT
BEGIN:STANDARD
TZOFFSETFROM:-0400
TZOFFSETTO:-0500
TZNAME:EST
DTSTART:20311102T060000
END:STANDARD
END:VTIMEZONE
BEGIN:VEVENT
DTSTART;TZID=America/New_York:20300417T130000
DTEND;TZID=America/New_York:20300417T140000
DTSTAMP:20260419T155849
CREATED:20250707T161511Z
LAST-MODIFIED:20251030T154120Z
UID:10000266-1902661200-1902664800@www.jfsatlantic.org
SUMMARY:Food Distribution (Oceanside II Success Center)
DESCRIPTION:3rd Wednesday of Each Month (1 – 2pm)\nOceanside II Success Center\n3201 Atlantic Ave.\, Atlantic City\, NJ
URL:https://www.jfsatlantic.org/events/distribution-oceanside-ii-success-center/2030-04-17/
CATEGORIES:Community Program,Volunteer
END:VEVENT
BEGIN:VEVENT
DTSTART;TZID=America/New_York:20300425T110000
DTEND;TZID=America/New_York:20300425T123000
DTSTAMP:20260419T155849
CREATED:20250707T161742Z
LAST-MODIFIED:20251030T154039Z
UID:10000326-1903345200-1903350600@www.jfsatlantic.org
SUMMARY:Food Distribution (ACCC AC Campus *STUDENTS ONLY*)
DESCRIPTION:4th Thursday of Each Month (11am – 12:30pm)\nACCC AC Campus (STUDENTS ONLY)\n1535 Bacharach Blvd.\, Atlantic City\, NJ
URL:https://www.jfsatlantic.org/events/distribution-accc-ac-campus-students-only/2030-04-25/
CATEGORIES:Community Program,Volunteer
END:VEVENT
BEGIN:VEVENT
DTSTART;TZID=America/New_York:20300515T130000
DTEND;TZID=America/New_York:20300515T140000
DTSTAMP:20260419T155849
CREATED:20250707T161511Z
LAST-MODIFIED:20251030T154120Z
UID:10000267-1905080400-1905084000@www.jfsatlantic.org
SUMMARY:Food Distribution (Oceanside II Success Center)
DESCRIPTION:3rd Wednesday of Each Month (1 – 2pm)\nOceanside II Success Center\n3201 Atlantic Ave.\, Atlantic City\, NJ
URL:https://www.jfsatlantic.org/events/distribution-oceanside-ii-success-center/2030-05-15/
CATEGORIES:Community Program,Volunteer
END:VEVENT
BEGIN:VEVENT
DTSTART;TZID=America/New_York:20300523T110000
DTEND;TZID=America/New_York:20300523T123000
DTSTAMP:20260419T155849
CREATED:20250707T161742Z
LAST-MODIFIED:20251030T154039Z
UID:10000327-1905764400-1905769800@www.jfsatlantic.org
SUMMARY:Food Distribution (ACCC AC Campus *STUDENTS ONLY*)
DESCRIPTION:4th Thursday of Each Month (11am – 12:30pm)\nACCC AC Campus (STUDENTS ONLY)\n1535 Bacharach Blvd.\, Atlantic City\, NJ
URL:https://www.jfsatlantic.org/events/distribution-accc-ac-campus-students-only/2030-05-23/
CATEGORIES:Community Program,Volunteer
END:VEVENT
BEGIN:VEVENT
DTSTART;TZID=America/New_York:20300619T130000
DTEND;TZID=America/New_York:20300619T140000
DTSTAMP:20260419T155849
CREATED:20250707T161511Z
LAST-MODIFIED:20251030T154120Z
UID:10000268-1908104400-1908108000@www.jfsatlantic.org
SUMMARY:Food Distribution (Oceanside II Success Center)
DESCRIPTION:3rd Wednesday of Each Month (1 – 2pm)\nOceanside II Success Center\n3201 Atlantic Ave.\, Atlantic City\, NJ
URL:https://www.jfsatlantic.org/events/distribution-oceanside-ii-success-center/2030-06-19/
CATEGORIES:Community Program,Volunteer
END:VEVENT
BEGIN:VEVENT
DTSTART;TZID=America/New_York:20300627T110000
DTEND;TZID=America/New_York:20300627T123000
DTSTAMP:20260419T155849
CREATED:20250707T161742Z
LAST-MODIFIED:20251030T154039Z
UID:10000328-1908788400-1908793800@www.jfsatlantic.org
SUMMARY:Food Distribution (ACCC AC Campus *STUDENTS ONLY*)
DESCRIPTION:4th Thursday of Each Month (11am – 12:30pm)\nACCC AC Campus (STUDENTS ONLY)\n1535 Bacharach Blvd.\, Atlantic City\, NJ
URL:https://www.jfsatlantic.org/events/distribution-accc-ac-campus-students-only/2030-06-27/
CATEGORIES:Community Program,Volunteer
END:VEVENT
END:VCALENDAR