BEGIN:VCALENDAR
VERSION:2.0
PRODID:-//JFS Atlantic - ECPv6.15.9//NONSGML v1.0//EN
CALSCALE:GREGORIAN
METHOD:PUBLISH
X-WR-CALNAME:JFS Atlantic
X-ORIGINAL-URL:https://www.jfsatlantic.org
X-WR-CALDESC:Events for JFS Atlantic
REFRESH-INTERVAL;VALUE=DURATION:PT1H
X-Robots-Tag:noindex
X-PUBLISHED-TTL:PT1H
BEGIN:VTIMEZONE
TZID:America/New_York
BEGIN:DAYLIGHT
TZOFFSETFROM:-0500
TZOFFSETTO:-0400
TZNAME:EDT
DTSTART:20250309T070000
END:DAYLIGHT
BEGIN:STANDARD
TZOFFSETFROM:-0400
TZOFFSETTO:-0500
TZNAME:EST
DTSTART:20251102T060000
END:STANDARD
BEGIN:DAYLIGHT
TZOFFSETFROM:-0500
TZOFFSETTO:-0400
TZNAME:EDT
DTSTART:20260308T070000
END:DAYLIGHT
BEGIN:STANDARD
TZOFFSETFROM:-0400
TZOFFSETTO:-0500
TZNAME:EST
DTSTART:20261101T060000
END:STANDARD
BEGIN:DAYLIGHT
TZOFFSETFROM:-0500
TZOFFSETTO:-0400
TZNAME:EDT
DTSTART:20270314T070000
END:DAYLIGHT
BEGIN:STANDARD
TZOFFSETFROM:-0400
TZOFFSETTO:-0500
TZNAME:EST
DTSTART:20271107T060000
END:STANDARD
END:VTIMEZONE
BEGIN:VEVENT
DTSTART;TZID=America/New_York:20260318T103000
DTEND;TZID=America/New_York:20260318T120000
DTSTAMP:20260420T120710
CREATED:20260218T145357Z
LAST-MODIFIED:20260218T145357Z
UID:10000590-1773829800-1773835200@www.jfsatlantic.org
SUMMARY:VILLAGE SOCIAL: Brunch & Learn: Jewish History of Venezuela
DESCRIPTION:Join us as we trace a uniquely Venezuelan expression of Jewish identity from the colonial period to present day. Learn how Jewish communities took shape within the social\, cultural\, and political landscape of Venezuela. The journey begins with early connections to coastal trade towns and continues with the oil boom era and growth of Caracas as a modern urban center. Attend in-person at Shirat Hayam\, 700 N. Swarthmore Avenue\, Ventnor. A $5 donation is appreciated. RSVP by March 13.
URL:https://www.jfsatlantic.org/events/village-social-brunch-learn-jewish-history-of-venezuela/
LOCATION:NJ
CATEGORIES:Village Program
END:VEVENT
BEGIN:VEVENT
DTSTART;TZID=America/New_York:20260318T130000
DTEND;TZID=America/New_York:20260318T140000
DTSTAMP:20260420T120710
CREATED:20250707T161511Z
LAST-MODIFIED:20251030T154120Z
UID:10000217-1773838800-1773842400@www.jfsatlantic.org
SUMMARY:Food Distribution (Oceanside II Success Center)
DESCRIPTION:3rd Wednesday of Each Month (1 – 2pm)\nOceanside II Success Center\n3201 Atlantic Ave.\, Atlantic City\, NJ
URL:https://www.jfsatlantic.org/events/distribution-oceanside-ii-success-center/2026-03-18/
LOCATION:NJ
CATEGORIES:Community Program,Volunteer
END:VEVENT
BEGIN:VEVENT
DTSTART;TZID=America/New_York:20260318T130000
DTEND;TZID=America/New_York:20260318T140000
DTSTAMP:20260420T120710
CREATED:20251030T154526Z
LAST-MODIFIED:20251030T154526Z
UID:10000409-1773838800-1773842400@www.jfsatlantic.org
SUMMARY:VOLUNTEER OPPORTUNITY: Oceanside II Success Center Food Distribution
DESCRIPTION:The JFS Mobile Pantry offers food directly in Atlantic City\, ensuring that more community members have easier access to the essentials.  Volunteers needed to help guests shop and distribute food. \n3rd Wednesday of Each Month (1 – 2pm)\nOceanside II Success Center\n3201 Atlantic Ave.\, Atlantic City\, NJ \nVolunteers must have completed application & vetting\, email volunteer@jfsatlantic.org to help.
URL:https://www.jfsatlantic.org/events/volunteer-opportunity-oceanside-ii-success-center-food-distribution/2026-03-18/
LOCATION:Oceanside II Success Center\, 3201 Atlantic Ave.\, Atlantic City
CATEGORIES:Volunteer
END:VEVENT
BEGIN:VEVENT
DTSTART;TZID=America/New_York:20260318T180000
DTEND;TZID=America/New_York:20260318T200000
DTSTAMP:20260420T120710
CREATED:20260218T150012Z
LAST-MODIFIED:20260218T150012Z
UID:10000591-1773856800-1773864000@www.jfsatlantic.org
SUMMARY:VILLAGE SOCIAL: The Girl Bandits of the Warsaw Ghetto
DESCRIPTION:The Warsaw Ghetto Uprising is one of the most storied events of the Holocaust\, yet previous accounts have almost entirely focused on the male participants. In The Girl Bandits of the Warsaw Ghetto\, Holocaust historian Elizabeth Hyman introduces five young\, courageous Polish Jewish women— who were central to the Jewish resistance. Attend in-person at Stockton University Room L112\, 101 Vera King Farris Drive\, Galloway. RSVP by March 12.
URL:https://www.jfsatlantic.org/events/village-social-the-girl-bandits-of-the-warsaw-ghetto/
LOCATION:NJ
CATEGORIES:Village Program
END:VEVENT
END:VCALENDAR