BEGIN:VCALENDAR
VERSION:2.0
PRODID:-//JFS Atlantic - ECPv6.15.9//NONSGML v1.0//EN
CALSCALE:GREGORIAN
METHOD:PUBLISH
X-ORIGINAL-URL:https://www.jfsatlantic.org
X-WR-CALDESC:Events for JFS Atlantic
REFRESH-INTERVAL;VALUE=DURATION:PT1H
X-Robots-Tag:noindex
X-PUBLISHED-TTL:PT1H
BEGIN:VTIMEZONE
TZID:America/New_York
BEGIN:DAYLIGHT
TZOFFSETFROM:-0500
TZOFFSETTO:-0400
TZNAME:EDT
DTSTART:20250309T070000
END:DAYLIGHT
BEGIN:STANDARD
TZOFFSETFROM:-0400
TZOFFSETTO:-0500
TZNAME:EST
DTSTART:20251102T060000
END:STANDARD
BEGIN:DAYLIGHT
TZOFFSETFROM:-0500
TZOFFSETTO:-0400
TZNAME:EDT
DTSTART:20260308T070000
END:DAYLIGHT
BEGIN:STANDARD
TZOFFSETFROM:-0400
TZOFFSETTO:-0500
TZNAME:EST
DTSTART:20261101T060000
END:STANDARD
BEGIN:DAYLIGHT
TZOFFSETFROM:-0500
TZOFFSETTO:-0400
TZNAME:EDT
DTSTART:20270314T070000
END:DAYLIGHT
BEGIN:STANDARD
TZOFFSETFROM:-0400
TZOFFSETTO:-0500
TZNAME:EST
DTSTART:20271107T060000
END:STANDARD
END:VTIMEZONE
BEGIN:VEVENT
DTSTART;TZID=America/New_York:20260227T103000
DTEND;TZID=America/New_York:20260227T120000
DTSTAMP:20260421T111937
CREATED:20260212T151920Z
LAST-MODIFIED:20260212T151920Z
UID:10000573-1772188200-1772193600@www.jfsatlantic.org
SUMMARY:VILLAGE SOCIAL: Hamantashen: Make & Bake Workshop
DESCRIPTION:Celebrate Purim with a fun\, hands-on baking experience led by Chef Jerzy. Learn facts about the holiday while preparing fresh\, homemade hamantashen. Choose from a variety of tropical fillings and classic traditional favorites. Everyone will leave with a batch of delicious treats. Free to attend at the Katz JCC\, 501 North Jerome Avenue\, Margate. \nA $5 donation is appreciated. RSVP required by February 23.
URL:https://www.jfsatlantic.org/events/village-social-hamantashen-make-bake-workshop/
LOCATION:NJ
CATEGORIES:Village Program
END:VEVENT
END:VCALENDAR