BEGIN:VCALENDAR
VERSION:2.0
PRODID:-//JFS Atlantic - ECPv6.15.9//NONSGML v1.0//EN
CALSCALE:GREGORIAN
METHOD:PUBLISH
X-WR-CALNAME:JFS Atlantic
X-ORIGINAL-URL:https://www.jfsatlantic.org
X-WR-CALDESC:Events for JFS Atlantic
REFRESH-INTERVAL;VALUE=DURATION:PT1H
X-Robots-Tag:noindex
X-PUBLISHED-TTL:PT1H
BEGIN:VTIMEZONE
TZID:America/New_York
BEGIN:DAYLIGHT
TZOFFSETFROM:-0500
TZOFFSETTO:-0400
TZNAME:EDT
DTSTART:20250309T070000
END:DAYLIGHT
BEGIN:STANDARD
TZOFFSETFROM:-0400
TZOFFSETTO:-0500
TZNAME:EST
DTSTART:20251102T060000
END:STANDARD
BEGIN:DAYLIGHT
TZOFFSETFROM:-0500
TZOFFSETTO:-0400
TZNAME:EDT
DTSTART:20260308T070000
END:DAYLIGHT
BEGIN:STANDARD
TZOFFSETFROM:-0400
TZOFFSETTO:-0500
TZNAME:EST
DTSTART:20261101T060000
END:STANDARD
BEGIN:DAYLIGHT
TZOFFSETFROM:-0500
TZOFFSETTO:-0400
TZNAME:EDT
DTSTART:20270314T070000
END:DAYLIGHT
BEGIN:STANDARD
TZOFFSETFROM:-0400
TZOFFSETTO:-0500
TZNAME:EST
DTSTART:20271107T060000
END:STANDARD
END:VTIMEZONE
BEGIN:VEVENT
DTSTART;TZID=America/New_York:20260226T103000
DTEND;TZID=America/New_York:20260226T120000
DTSTAMP:20260420T233624
CREATED:20260212T151820Z
LAST-MODIFIED:20260212T151820Z
UID:10000572-1772101800-1772107200@www.jfsatlantic.org
SUMMARY:VILLAGE SOCIAL: Brunch & Learn
DESCRIPTION:Between Myth & Midrash – Monsters\, Beasts & Bizarre Creatures in Jewish Scripture \nFrom the depths of the sea to the edges of wilderness\, Jewish scripture is filled with strange\, powerful\, and sometimes unsettling creatures. We’ll explore the monsters\, beasts\, and bizarre beings throughout the Bible\, Midrash\, rabbinic literature\, and Jewish imagination. From Leviathan and Behemoth to lesser-known figures that blur the line between myth and meaning\, we’ll examine what these creatures reveal about fear\, chaos\, divine power\, and the human struggle to understand a complex world and why ancient images continue to fascinate and challenge us. Free to attend in the Katz JCC Boardroom\, 501 North Jerome Avenue\, Margate. A $5 donation is appreciated. RSVP by February 23.
URL:https://www.jfsatlantic.org/events/village-social-brunch-learn/
LOCATION:NJ
CATEGORIES:Village Program
END:VEVENT
BEGIN:VEVENT
DTSTART;TZID=America/New_York:20260226T110000
DTEND;TZID=America/New_York:20260226T123000
DTSTAMP:20260420T233624
CREATED:20250707T161742Z
LAST-MODIFIED:20251030T154039Z
UID:10000276-1772103600-1772109000@www.jfsatlantic.org
SUMMARY:Food Distribution (ACCC AC Campus *STUDENTS ONLY*)
DESCRIPTION:4th Thursday of Each Month (11am – 12:30pm)\nACCC AC Campus (STUDENTS ONLY)\n1535 Bacharach Blvd.\, Atlantic City\, NJ
URL:https://www.jfsatlantic.org/events/distribution-accc-ac-campus-students-only/2026-02-26/
LOCATION:NJ
CATEGORIES:Community Program,Volunteer
END:VEVENT
END:VCALENDAR