BEGIN:VCALENDAR
VERSION:2.0
PRODID:-//JFS Atlantic - ECPv6.15.9//NONSGML v1.0//EN
CALSCALE:GREGORIAN
METHOD:PUBLISH
X-ORIGINAL-URL:https://www.jfsatlantic.org
X-WR-CALDESC:Events for JFS Atlantic
REFRESH-INTERVAL;VALUE=DURATION:PT1H
X-Robots-Tag:noindex
X-PUBLISHED-TTL:PT1H
BEGIN:VTIMEZONE
TZID:America/New_York
BEGIN:DAYLIGHT
TZOFFSETFROM:-0500
TZOFFSETTO:-0400
TZNAME:EDT
DTSTART:20240310T070000
END:DAYLIGHT
BEGIN:STANDARD
TZOFFSETFROM:-0400
TZOFFSETTO:-0500
TZNAME:EST
DTSTART:20241103T060000
END:STANDARD
BEGIN:DAYLIGHT
TZOFFSETFROM:-0500
TZOFFSETTO:-0400
TZNAME:EDT
DTSTART:20250309T070000
END:DAYLIGHT
BEGIN:STANDARD
TZOFFSETFROM:-0400
TZOFFSETTO:-0500
TZNAME:EST
DTSTART:20251102T060000
END:STANDARD
BEGIN:DAYLIGHT
TZOFFSETFROM:-0500
TZOFFSETTO:-0400
TZNAME:EDT
DTSTART:20260308T070000
END:DAYLIGHT
BEGIN:STANDARD
TZOFFSETFROM:-0400
TZOFFSETTO:-0500
TZNAME:EST
DTSTART:20261101T060000
END:STANDARD
END:VTIMEZONE
BEGIN:VEVENT
DTSTART;TZID=America/New_York:20250718T083000
DTEND;TZID=America/New_York:20250718T120000
DTSTAMP:20260420T044241
CREATED:20250707T150220Z
LAST-MODIFIED:20250707T150220Z
UID:10000159-1752827400-1752840000@www.jfsatlantic.org
SUMMARY:Village Goes to the Ventnor Farmers Market
DESCRIPTION:Come visit or volunteer at the Village informational table at the Ventnor Farmers Market\, located on New Haven and Atlantic Avenues in the St. James Church parking lot.  Meet\, greet\, and share your enthusiasm for Village events and Services as you enjoy sunshine and shopping from local farmers and vendors. \n 
URL:https://www.jfsatlantic.org/events/village-goes-to-the-ventnor-farmers-market-2/
LOCATION:NJ
CATEGORIES:Village Program
END:VEVENT
END:VCALENDAR