BEGIN:VCALENDAR
VERSION:2.0
PRODID:-//JFS Atlantic - ECPv6.15.9//NONSGML v1.0//EN
CALSCALE:GREGORIAN
METHOD:PUBLISH
X-ORIGINAL-URL:https://www.jfsatlantic.org
X-WR-CALDESC:Events for JFS Atlantic
REFRESH-INTERVAL;VALUE=DURATION:PT1H
X-Robots-Tag:noindex
X-PUBLISHED-TTL:PT1H
BEGIN:VTIMEZONE
TZID:America/New_York
BEGIN:DAYLIGHT
TZOFFSETFROM:-0500
TZOFFSETTO:-0400
TZNAME:EDT
DTSTART:20240310T070000
END:DAYLIGHT
BEGIN:STANDARD
TZOFFSETFROM:-0400
TZOFFSETTO:-0500
TZNAME:EST
DTSTART:20241103T060000
END:STANDARD
BEGIN:DAYLIGHT
TZOFFSETFROM:-0500
TZOFFSETTO:-0400
TZNAME:EDT
DTSTART:20250309T070000
END:DAYLIGHT
BEGIN:STANDARD
TZOFFSETFROM:-0400
TZOFFSETTO:-0500
TZNAME:EST
DTSTART:20251102T060000
END:STANDARD
BEGIN:DAYLIGHT
TZOFFSETFROM:-0500
TZOFFSETTO:-0400
TZNAME:EDT
DTSTART:20260308T070000
END:DAYLIGHT
BEGIN:STANDARD
TZOFFSETFROM:-0400
TZOFFSETTO:-0500
TZNAME:EST
DTSTART:20261101T060000
END:STANDARD
END:VTIMEZONE
BEGIN:VEVENT
DTSTART;TZID=America/New_York:20250701T150000
DTEND;TZID=America/New_York:20250701T160000
DTSTAMP:20260420T152512
CREATED:20250707T142700Z
LAST-MODIFIED:20250707T142700Z
UID:10000157-1751382000-1751385600@www.jfsatlantic.org
SUMMARY:Thoughts of the Bookshelf
DESCRIPTION:Join facilitator Pat Goldstein and Village Community Specialist Tina Serota for a book club gathering.  This month\, we’ll be discussing the book\, Educated\, by Tara Westover.  This memoir focuses on personal growth\, self-discovery\, and resilience when a young woman\, kept from school\, leaves her Mormon survivalist family and embarks on her education where she earns a Ph.D. from Cambridge University. \nAttend in-person @ the Margate Library Meeting Room\, 8100 Atlantic Avenue\, Margate. \nYou must RSVP by June 30th!  Contact Tina Serota @ 609-287-8872 or tserota@jfsatlantic.org
URL:https://www.jfsatlantic.org/events/thoughts-of-the-bookshelf/
LOCATION:Margate Library Meeting Room\, 8100 Atlantic Avenue\, Margate\, New Jersey
CATEGORIES:Village Program
ATTACH;FMTTYPE=image/png:https://www.jfsatlantic.org/wp-content/uploads/2025/07/Educated-book-cover.png
END:VEVENT
END:VCALENDAR