BEGIN:VCALENDAR
VERSION:2.0
PRODID:-//JFS Atlantic - ECPv6.15.9//NONSGML v1.0//EN
CALSCALE:GREGORIAN
METHOD:PUBLISH
X-WR-CALNAME:JFS Atlantic
X-ORIGINAL-URL:https://www.jfsatlantic.org
X-WR-CALDESC:Events for JFS Atlantic
REFRESH-INTERVAL;VALUE=DURATION:PT1H
X-Robots-Tag:noindex
X-PUBLISHED-TTL:PT1H
BEGIN:VTIMEZONE
TZID:America/New_York
BEGIN:DAYLIGHT
TZOFFSETFROM:-0500
TZOFFSETTO:-0400
TZNAME:EDT
DTSTART:20230312T070000
END:DAYLIGHT
BEGIN:STANDARD
TZOFFSETFROM:-0400
TZOFFSETTO:-0500
TZNAME:EST
DTSTART:20231105T060000
END:STANDARD
BEGIN:DAYLIGHT
TZOFFSETFROM:-0500
TZOFFSETTO:-0400
TZNAME:EDT
DTSTART:20240310T070000
END:DAYLIGHT
BEGIN:STANDARD
TZOFFSETFROM:-0400
TZOFFSETTO:-0500
TZNAME:EST
DTSTART:20241103T060000
END:STANDARD
BEGIN:DAYLIGHT
TZOFFSETFROM:-0500
TZOFFSETTO:-0400
TZNAME:EDT
DTSTART:20250309T070000
END:DAYLIGHT
BEGIN:STANDARD
TZOFFSETFROM:-0400
TZOFFSETTO:-0500
TZNAME:EST
DTSTART:20251102T060000
END:STANDARD
END:VTIMEZONE
BEGIN:VEVENT
DTSTART;TZID=America/New_York:20240923T103000
DTEND;TZID=America/New_York:20240923T120000
DTSTAMP:20260421T101013
CREATED:20240912T161658Z
LAST-MODIFIED:20240912T191840Z
UID:10000073-1727087400-1727092800@www.jfsatlantic.org
SUMMARY:Coffee and Conversation
DESCRIPTION:
URL:https://www.jfsatlantic.org/events/coffee-and-conversation/
LOCATION:NJ
CATEGORIES:Upcoming Event
ATTACH;FMTTYPE=image/webp:https://www.jfsatlantic.org/wp-content/uploads/2024/09/Coffee-Conversations.webp
END:VEVENT
BEGIN:VEVENT
DTSTART;TZID=America/New_York:20240923T130000
DTEND;TZID=America/New_York:20240923T143000
DTSTAMP:20260421T101013
CREATED:20240912T161951Z
LAST-MODIFIED:20240912T191758Z
UID:10000074-1727096400-1727101800@www.jfsatlantic.org
SUMMARY:Memory Connections
DESCRIPTION:
URL:https://www.jfsatlantic.org/events/memory-connections/
LOCATION:NJ
CATEGORIES:Upcoming Event
ATTACH;FMTTYPE=image/webp:https://www.jfsatlantic.org/wp-content/uploads/2024/09/Memory-Connections.webp
END:VEVENT
END:VCALENDAR