BEGIN:VCALENDAR
VERSION:2.0
PRODID:-//JFS Atlantic - ECPv6.15.9//NONSGML v1.0//EN
CALSCALE:GREGORIAN
METHOD:PUBLISH
X-WR-CALNAME:JFS Atlantic
X-ORIGINAL-URL:https://www.jfsatlantic.org
X-WR-CALDESC:Events for JFS Atlantic
REFRESH-INTERVAL;VALUE=DURATION:PT1H
X-Robots-Tag:noindex
X-PUBLISHED-TTL:PT1H
BEGIN:VTIMEZONE
TZID:America/New_York
BEGIN:DAYLIGHT
TZOFFSETFROM:-0500
TZOFFSETTO:-0400
TZNAME:EDT
DTSTART:20230312T070000
END:DAYLIGHT
BEGIN:STANDARD
TZOFFSETFROM:-0400
TZOFFSETTO:-0500
TZNAME:EST
DTSTART:20231105T060000
END:STANDARD
BEGIN:DAYLIGHT
TZOFFSETFROM:-0500
TZOFFSETTO:-0400
TZNAME:EDT
DTSTART:20240310T070000
END:DAYLIGHT
BEGIN:STANDARD
TZOFFSETFROM:-0400
TZOFFSETTO:-0500
TZNAME:EST
DTSTART:20241103T060000
END:STANDARD
BEGIN:DAYLIGHT
TZOFFSETFROM:-0500
TZOFFSETTO:-0400
TZNAME:EDT
DTSTART:20250309T070000
END:DAYLIGHT
BEGIN:STANDARD
TZOFFSETFROM:-0400
TZOFFSETTO:-0500
TZNAME:EST
DTSTART:20251102T060000
END:STANDARD
END:VTIMEZONE
BEGIN:VEVENT
DTSTART;TZID=America/New_York:20240816T083000
DTEND;TZID=America/New_York:20240816T120000
DTSTAMP:20260423T140858
CREATED:20240812T151114Z
LAST-MODIFIED:20240812T154725Z
UID:10000020-1723797000-1723809600@www.jfsatlantic.org
SUMMARY:Village Goes to the Ventnor Farmers Market – Volunteers Needed!
DESCRIPTION: ome visit or volunteer to assist at the Village informational table at the Ventnor Farmers Market\, located on New Haven and Atlantic Avenues in the St. James Church parking lot. Meet\, greet and share your enthusiasm for Village events and services as you enjoy sunshine\, sea air and an opportunity to shop from local farmers and vendors. Admission is free. If volunteering\, contact Bailey Pokres at bpokres@jfsatlantic.org. 
URL:https://www.jfsatlantic.org/events/village-goes-to-the-ventnor-farmers-market-volunteers-needed/2024-08-16/
LOCATION:Ventnor Farmers Market\, New Haven and Atlantic Avenues\, Ventnor\, New Jersey
CATEGORIES:Upcoming Event
ATTACH;FMTTYPE=image/webp:https://www.jfsatlantic.org/wp-content/uploads/2024/06/Farmers-Market.webp
END:VEVENT
END:VCALENDAR