BEGIN:VCALENDAR
VERSION:2.0
PRODID:-//JFS Atlantic - ECPv6.15.9//NONSGML v1.0//EN
CALSCALE:GREGORIAN
METHOD:PUBLISH
X-WR-CALNAME:JFS Atlantic
X-ORIGINAL-URL:https://www.jfsatlantic.org
X-WR-CALDESC:Events for JFS Atlantic
REFRESH-INTERVAL;VALUE=DURATION:PT1H
X-Robots-Tag:noindex
X-PUBLISHED-TTL:PT1H
BEGIN:VTIMEZONE
TZID:America/New_York
BEGIN:DAYLIGHT
TZOFFSETFROM:-0500
TZOFFSETTO:-0400
TZNAME:EDT
DTSTART:20230312T070000
END:DAYLIGHT
BEGIN:STANDARD
TZOFFSETFROM:-0400
TZOFFSETTO:-0500
TZNAME:EST
DTSTART:20231105T060000
END:STANDARD
BEGIN:DAYLIGHT
TZOFFSETFROM:-0500
TZOFFSETTO:-0400
TZNAME:EDT
DTSTART:20240310T070000
END:DAYLIGHT
BEGIN:STANDARD
TZOFFSETFROM:-0400
TZOFFSETTO:-0500
TZNAME:EST
DTSTART:20241103T060000
END:STANDARD
BEGIN:DAYLIGHT
TZOFFSETFROM:-0500
TZOFFSETTO:-0400
TZNAME:EDT
DTSTART:20250309T070000
END:DAYLIGHT
BEGIN:STANDARD
TZOFFSETFROM:-0400
TZOFFSETTO:-0500
TZNAME:EST
DTSTART:20251102T060000
END:STANDARD
END:VTIMEZONE
BEGIN:VEVENT
DTSTART;TZID=America/New_York:20240813T103000
DTEND;TZID=America/New_York:20240813T113000
DTSTAMP:20260425T102652
CREATED:20240812T144228Z
LAST-MODIFIED:20240812T154551Z
UID:10000012-1723545000-1723548600@www.jfsatlantic.org
SUMMARY:Village Film Society
DESCRIPTION: Join Village Film Enthusiast & Historic Cinematic Buff Tom Celandine and Village Community Specialist Tina Serota for a discussion about the Academy award-winning documentary\, Bowling for Columbine\, by Michael Moore. The film explores the circumstances that led to the 1999 Columbine High School massacre and\, more broadly\, the proliferation of guns and high rate of homicides throughout the nation. The documentary can be viewed on Amazon Prime\, Tubi\, Pluto\, Apple TV\, Roku Channel\, and Google Play and is available at the Ventnor Library. This program is via Zoom and a link will be emailed. RSVP by August 8. 
URL:https://www.jfsatlantic.org/events/village-film-society/
LOCATION:NJ
CATEGORIES:Upcoming Event
ATTACH;FMTTYPE=image/webp:https://www.jfsatlantic.org/wp-content/uploads/2024/06/Village-Film-Society.webp
END:VEVENT
END:VCALENDAR