BEGIN:VCALENDAR
VERSION:2.0
PRODID:-//JFS Atlantic - ECPv6.15.9//NONSGML v1.0//EN
CALSCALE:GREGORIAN
METHOD:PUBLISH
X-ORIGINAL-URL:https://www.jfsatlantic.org
X-WR-CALDESC:Events for JFS Atlantic
REFRESH-INTERVAL;VALUE=DURATION:PT1H
X-Robots-Tag:noindex
X-PUBLISHED-TTL:PT1H
BEGIN:VTIMEZONE
TZID:America/New_York
BEGIN:DAYLIGHT
TZOFFSETFROM:-0500
TZOFFSETTO:-0400
TZNAME:EDT
DTSTART:20230312T070000
END:DAYLIGHT
BEGIN:STANDARD
TZOFFSETFROM:-0400
TZOFFSETTO:-0500
TZNAME:EST
DTSTART:20231105T060000
END:STANDARD
BEGIN:DAYLIGHT
TZOFFSETFROM:-0500
TZOFFSETTO:-0400
TZNAME:EDT
DTSTART:20240310T070000
END:DAYLIGHT
BEGIN:STANDARD
TZOFFSETFROM:-0400
TZOFFSETTO:-0500
TZNAME:EST
DTSTART:20241103T060000
END:STANDARD
BEGIN:DAYLIGHT
TZOFFSETFROM:-0500
TZOFFSETTO:-0400
TZNAME:EDT
DTSTART:20250309T070000
END:DAYLIGHT
BEGIN:STANDARD
TZOFFSETFROM:-0400
TZOFFSETTO:-0500
TZNAME:EST
DTSTART:20251102T060000
END:STANDARD
END:VTIMEZONE
BEGIN:VEVENT
DTSTART;TZID=America/New_York:20240618T120000
DTEND;TZID=America/New_York:20240618T133000
DTSTAMP:20260423T202423
CREATED:20240611T204345Z
LAST-MODIFIED:20240613T170330Z
UID:10000006-1718712000-1718717400@www.jfsatlantic.org
SUMMARY:Lunch Around Town Tuesday
DESCRIPTION:Enjoy a leisurely lunch with friends while supporting a local restaurant. This month\, we’ll dine at La Cucina Ristorante\, 1205 Tilton Road in Northfield. Come prepared for good food and conversation. Order off the menu and pay individually. \nRSVP to tserota@jfsatlantic.org
URL:https://www.jfsatlantic.org/events/lunch-around-town-tuesday/
LOCATION:NJ
ATTACH;FMTTYPE=image/jpeg:https://www.jfsatlantic.org/wp-content/uploads/2024/06/La-Cucina-Ristorante-for-Lunch-Around-Town.jpg
END:VEVENT
END:VCALENDAR